BEGIN:VCALENDAR
VERSION:2.0
PRODID:-//swoogo.com//NONSGML kigkonsult.se iCalcreator 2.41.90//
CALSCALE:GREGORIAN
UID:66613332-3065-4439-b833-363933393665
BEGIN:VEVENT
UID:4818cacfce240697195faa646f32dbb5ff51b050@swoogo.com
DTSTAMP:20260425T215110Z
DESCRIPTION:* As online commerce continues to grow\, securing digital payme
 nts becomes increasingly important. With Belgium's fraud rates higher than
  the EU average\, it is essential for all stakeholders to come together to
  strengthen the security of e-commerce. Join us on Tuesday 3rd June\, at C
 omet Louise\, Brussels\, for an engaging and insightful discussion featuri
 ng industry experts and public sector representatives. Together\, we'll ex
 plore the best strategies to combat fraud in the digital age. Don't miss t
 his opportunity to be part of the solution!\n\n 
DTSTART:20250603T093000Z
DTEND:20250603T123000Z
LAST-MODIFIED:20260425T215110Z
LOCATION:Comet Louise\, Pl. Stéphanie 20\, Brussels Belgium 1050\, Belgium
SEQUENCE:0
STATUS:CONFIRMED
SUMMARY:Combatting Fraud in the Digital Age
TRANSP:OPAQUE
X-ALT-DESC;FMTTYPE=text/html:<ul>\n	<li style='list-style-type:none\;'><span
  style='font-size:12pt\;'><span style='font-family:Aptos\, sans-serif\;'><
 span lang='en-gb' style='font-size:11pt\;' xml:lang='en-gb'>As online comm
 erce </span><span lang='en-us' style='font-size:11pt\;' xml:lang='en-us'>c
 ontinues to grow</span><span lang='en-gb' style='font-size:11pt\;' xml:lan
 g='en-gb'>\, </span><span lang='en-us' style='font-size:11pt\;' xml:lang='
 en-us'>securing digital payments becomes increasingly important. With Belg
 ium's fraud rates higher than the EU average\, it is essential for all sta
 keholders to come together to </span><span lang='en-gb' style='font-size:1
 1pt\;' xml:lang='en-gb'>strengthen</span><span lang='en-us' style='font-si
 ze:11pt\;' xml:lang='en-us'> the security of e-commerce. </span></span></s
 pan><span style='font-size:12pt\;'><span style='font-family:Aptos\, sans-s
 erif\;'><span lang='en-us' style='font-size:11pt\;' xml:lang='en-us'>Join 
 us on Tuesday 3<sup>rd</sup> June\, at Comet Louise\, Brussels\, for an en
 gaging and insightful discussion featuring industry experts and public sec
 tor representatives. Together\, we'll explore the best strategies to comba
 t fraud in the digital age. Don't miss this opportunity to be part of the 
 solution!</span></span></span></li>\n</ul>\n\n<p style='margin-left:96px\;
 '> </p>
BEGIN:VALARM
UID:32343232-3830-4134-b632-643232656165
ACTION:DISPLAY
DESCRIPTION:* As online commerce continues to grow\, securing digital payme
 nts becomes increasingly important. With Belgium's fraud rates higher than
  the EU average\, it is essential for all stakeholders to come together to
  strengthen the security of e-commerce. Join us on Tuesday 3rd June\, at C
 omet Louise\, Brussels\, for an engaging and insightful discussion featuri
 ng industry experts and public sector representatives. Together\, we'll ex
 plore the best strategies to combat fraud in the digital age. Don't miss t
 his opportunity to be part of the solution!\n\n 
TRIGGER:-PT15M
END:VALARM
END:VEVENT
END:VCALENDAR
